Workbook
Name ANO: [1]CALEN!$N$4
Name BD: #REF!
Name BD: #REF!
Name BD: #REF!
Name BD: #REF!
Name DDD: [2]NOMES!#REF!
Name DDD: [2]NOMES!#REF!
Name DDD: [2]NOMES!#REF!
Name DDD: [2]NOMES!#REF!
Name DIAS: [2]NOMES!$G$21
Name FERIADO: '[3]BANCO DE DADOS'!$B$16:$F$31
Name FLUXO: [2]NOMES!$B$2:$D$2
Name FORMA: [2]NOMES!$L$2:$L$35
Name GERAL: [4]GERAL!$D$17:$BC$45
Name hoje: TODAY()
Name hoje: TODAY()
Name hoje: TODAY()
Name HORAS: [2]NOMES!$G$20
Name início_da_tarefa: 'Cronograma Financeiro'!$C1
Name início_da_tarefa: 'Cronograma Fís-Fin'!#REF!
Name início_da_tarefa: 'Cronograma Físico-Financeiro'!$C1
Name Início_do_projeto: 'Cronograma Financeiro'!#REF!
Name Início_do_projeto: 'Cronograma Fís-Fin'!#REF!
Name Início_do_projeto: 'Cronograma Físico-Financeiro'!#REF!
Name Início_do_projeto: #REF!
Name IntervaloCompradorNomes: OFFSET([5]HOME!$B$23,0,0,COUNT([5]HOME!$A$23:$A$32),1)
Name IntervaloCompradorValores: OFFSET([5]HOME!$J$23,0,0,COUNT([5]HOME!$A$23:$A$32),1)
Name IntervaloOrcNomes: OFFSET([5]HOME!$B$152,0,0,COUNT([5]HOME!$J$152:$J$252),1)
Name IntervaloOrcValores1: OFFSET([5]HOME!$C$152,0,0,COUNT([5]HOME!$J$152:$J$252),1)
Name IntervaloOrcValores2: OFFSET([5]HOME!$E$152,0,0,COUNT([5]HOME!$J$152:$J$252),1)
Name IntervaloPgtoNomes: OFFSET([5]HOME!$B$10,0,0,COUNT([5]HOME!$A$10:$A$19),1)
Name IntervaloPgtoValores: OFFSET([5]HOME!$J$10,0,0,COUNT([5]HOME!$A$10:$A$19),1)
Name LOGISTICA: [2]NOMES!$F$8:$F$9
Name M.HORAS: [2]NOMES!$H$20
Name MEDIAS: [2]NOMES!$X$15:$X$20
Name MESES: [2]NOMES!$X$2:$X$13
Name METADE: [2]NOMES!#REF!
Name METADE: [2]NOMES!#REF!
Name METADE: [2]NOMES!#REF!
Name METADE: [2]NOMES!#REF!
Name METADEDASHORAS: [2]NOMES!#REF!
Name METADEDASHORAS: [2]NOMES!#REF!
Name METADEDASHORAS: [2]NOMES!#REF!
Name METADEDASHORAS: [2]NOMES!#REF!
Name METADEH: [2]NOMES!#REF!
Name METADEH: [2]NOMES!#REF!
Name METADEH: [2]NOMES!#REF!
Name METADEH: [2]NOMES!#REF!
Name NOTA: [2]NOMES!$F$2:$F$3
Name OUTUBRO: [2]NOMES!#REF!
Name OUTUBRO: [2]NOMES!#REF!
Name OUTUBRO: [2]NOMES!#REF!
Name OUTUBRO: [2]NOMES!#REF!
Name PESSOA: [2]NOMES!$F$5:$F$6
Name progresso_da_tarefa: 'Cronograma Financeiro'!#REF!
Name progresso_da_tarefa: 'Cronograma Fís-Fin'!#REF!
Name progresso_da_tarefa: 'Cronograma Físico-Financeiro'!#REF!
Name Semana_de_exibição: 'Cronograma Financeiro'!#REF!
Name Semana_de_exibição: 'Cronograma Fís-Fin'!#REF!
Name Semana_de_exibição: 'Cronograma Físico-Financeiro'!#REF!

Sheet Cronograma Fís-Fin
A1: CRONOGRAMA FÍSICO-FINANCEIRO DA OBRA DE CONCLUSÃO DA AMPLIAÇÃO E OTIMIZAÇÃO DA ETA 03 CAPIM FINO
B2: PRODUTO | C2: VALOR | D2: PERÍODOS DE EXECUÇÃO
D3: MÊS 01 | E3: MÊS 02 | F3: MÊS 03 | G3: MÊS 04 | H3: MÊS 05 | I3: MÊS 06 | J3: MÊS 07 | K3: MÊS 08 | L3: MÊS 09 | M3: MÊS 10 | N3: MÊS 11 | O3: MÊS 12 | P3: MÊS 13 | Q3: MÊS 14 | R3: MÊS 15
A4: 1.1 | B4: FINALIZAÇÃO DA CASA DE BOMBAS, RECALQUE DE ÁGUA PARA OS INJETORES DE CLORO E TUBULAÇÕES DE ÁGUA | C4: 851491.98 | D4: 0.6 | E4: 0.4
A5: 1.2 | B5: PROJETO DE ILUMINAÇÃO DAS NOVAS UNIDADES E DO PÁTIO CENTRAL | C5: 87445.72 | F5: 0.9 | O5: 0.1
A6: 1.3 | B6: INSTALAÇÕES HIDRÁULICAS DOS SISTEMAS DE DOSAGEM DE PRODUTOS QUÍMICOS E GALERIAS | C6: 1472277.9 | F6: 0.25 | G6: 0.25 | H6: 0.25 | I6: 0.2 | L6: 0.05
A7: 1.4 | B7: CONSTRUÇÃO DA PASSARELA DE INTERLIGAÇÃO, RAMPAS DE ACESSO E PASSAGEM DAS TUBULAÇÕES | C7: 2405791.8 | F7: 0.2 | G7: 0.1 | H7: 0.1 | I7: 0.1 | J7: 0.1 | K7: 0.1 | O7: 0.1 | P7: 0.1 | Q7: 0.05 | R7: 0.05
A8: 1.5 | B8: COBERTURA METÁLICA DA CALHA PARSHALL PARA PROTEÇÃO EQUIPAMENTOS DE DOSAGEM E MEDIDOR DE VAZÃO COAGULANTE | C8: 255369.2 | L8: 0.5 | M8: 0.5
A9: 1.6 | B9: ADEQUAÇÕES DO PLANO DE GERENCIAMENTO DE RISCOS (PGR) PARA O SISTEMA DE DIÓXIDO DE CLORO | C9: 178665.79 | J9: 1
A10: 1.7 | B10: IMPERMEABILIZAÇÃO DA CALHA PARSHALL, CANAL DE SAÍDA DE ÁGUA COAGULADA E CÂMARA DE PRÉ-OXIDAÇÃO | C10: 6925839 | E10: 0.14 | F10: 0.12 | G10: 0.12 | H10: 0.12 | I10: 0.12 | J10: 0.12 | K10: 0.12 | L10: 0.14
A11: 1.8 | B11: INSTALAÇÃO DAS COMPORTAS NO CANAL DE ÁGUA COAGULADA E DAS MALHAS DE AÇO PARA MISTURA RÁPIDA | C11: 886110.67 | H11: 1
A12: 1.9 | B12: INSTALAÇÕES HIDRÁULICAS DOS PONTOS DE APLICAÇÃO DE PRODUTOS QUÍMICOS (PAC,CAP,CARVÃO,POLÍMERO E CLORO) | C12: 43906.49 | M12: 1
A13: 1.10 | B13: ADEQUAÇÃO GUARDA-CORPOS CANAL DE ÁGUA BRUTA, CÂMARA PRÉ-OXIDAÇÃO, CALHA PARSHALL E CANAL ÁGUA COAGULADA | C13: 583404.5 | M13: 1
A14: 2.1 | B14: TÉRMINO E CORREÇÕES DO SISTEMA DE APLICAÇÃO DE HIDRÓXIDO DE SÓDIO (PERTINENTES AO PGR) | C14: 457813.98 | H14: 0.2 | I14: 0.2 | J14: 0.1 | M14: 0.5
A15: 2.2 | B15: ADEQUAÇÕES PERTINENTES AO PGR PARA OS SISTEMAS DE POLÍMERO, FLÚOR E CLORO | C15: 612386.23 | K15: 0.6 | L15: 0.4
A16: 2.3 | B16: ADEQUAÇÕES DO SISTEMA DE COAGULANTE PAC (BACIA CONTENÇÃO, BASE TANQUES, TRANSF. ENTRE TANQUES E CASA DE BOMBAS) | C16: 648633.95 | H16: 0.4 | I16: 0.4 | J16: 0.2
A17: 2.4 | B17: ADEQUAÇÃO DOS GUARDAS-CORPOS DOS FLOCULADORES, DECANTADORES E FILTROS | C17: 2297821.3 | N17: 0.4 | O17: 0.4 | P17: 0.2
A18: 3.1 | B18: ADEQUAÇÕES PARA ACESSIBILIDADE | C18: 264821.77 | N18: 0.6 | O18: 0.4
A19: 3.2 | B19: DEMOLIÇÃO DA ANTIGA CALHA PARSHALL, COM RECUPERAÇÃO E REAPROVEITAMENTO DA ÁREA | C19: 324677.7 | O19: 0.5 | P19: 0.5
A20: 3.3 | B20: PAVIMENTAÇÃO EM CONCRETO ESTRUTURAL DO ESTACIONAMENTO E DE TRECHOS DO PÁTIO CENTRAL | C20: 1123464.7 | F20: 0.25 | L20: 0.5 | M20: 0.25
A21: TOTAL GERAL | C21: =SUM(C4:C20) -> 19419923
A22: VALOR PLANEJADO | D22: {=SUM(D4:D20*IF($C$4:$C$20="",0,$C$4:$C$20))} -> 510895.19 | E22: {=SUM(E4:E20*IF($C$4:$C$20="",0,$C$4:$C$20))} -> 1310214.3 | F22: {=SUM(F4:F20*IF($C$4:$C$20="",0,$C$4:$C$20))} -> 2039895.8 | G22: {=SUM(G4:G20*IF($C$4:$C$20="",0,$C$4:$C$20))} -> 1439749.3 | H22: {=SUM(H4:H20*IF($C$4:$C$20="",0,$C$4:$C$20))} -> 2676876.4 | I22: {=SUM(I4:I20*IF($C$4:$C$20="",0,$C$4:$C$20))} -> 1717151.8 | J22: {=SUM(J4:J20*IF($C$4:$C$20="",0,$C$4:$C$20))} -> 1425853.8 | K22: {=SUM(K4:K20*IF($C$4:$C$20="",0,$C$4:$C$20))} -> 1439111.6 | ... R22: {=SUM(R4:R20*IF($C$4:$C$20="",0,$C$4:$C$20))} -> 120289.59
A23: (%) PLANEJADA | D23: =IFERROR(D22/$C$21,"") -> 0.026307787 | E23: =IFERROR(E22/$C$21,"") -> 0.067467532 | F23: =IFERROR(F22/$C$21,"") -> 0.1050414 | G23: =IFERROR(G22/$C$21,"") -> 0.074137748 | H23: =IFERROR(H22/$C$21,"") -> 0.13784176 | I23: =IFERROR(I22/$C$21,"") -> 0.088422176 | J23: =IFERROR(J22/$C$21,"") -> 0.07342222 | K23: =IFERROR(K22/$C$21,"") -> 0.074104909 | ... R23: =IFERROR(R22/$C$21,"") -> 0.0061941332
A24: VALOR PLANEJADO ACUMULADO | D24: =D22 -> 510895.19 | E24: =D24+E22 -> 1821109.4 | F24: =E24+F22 -> 3861005.3 | G24: =F24+G22 -> 5300754.6 | H24: =G24+H22 -> 7977631 | I24: =H24+I22 -> 9694782.8 | J24: =I24+J22 -> 11120637 | K24: =J24+K22 -> 12559748 | L24: =K24+L22 -> 14537351 | ... R24: =Q24+R22 -> 19419923
A25: (%) PLANEJADA ACUMULADA | D25: =D23 -> 0.026307787 | E25: =IFERROR(D25+E23,"") -> 0.093775319 | F25: =IFERROR(E25+F23,"") -> 0.19881672 | G25: =IFERROR(F25+G23,"") -> 0.27295447 | H25: =IFERROR(G25+H23,"") -> 0.41079623 | I25: =IFERROR(H25+I23,"") -> 0.49921841 | J25: =IFERROR(I25+J23,"") -> 0.57264063 | K25: =IFERROR(J25+K23,"") -> 0.64674554 | L25: =IFERROR(K25+L23,"") -> 0.74857925 | ... R25: =IFERROR(Q25+R23,"") -> 1

Sheet Cronograma Físico-Financeiro
A1: ANEXO C - CRONOGRAMA FÍSICO-FINANCEIRO DA OBRA DE AMPLIAÇÃO DA ETA CAPIM FINO
B2: PRODUTO | C2: INÍCIO | D2: TÉRMINO | E2: VALOR | F2: 2024 | R2: 2025
F3: JANEIRO | G3: FEVEREIRO | H3: MARÇO | I3: ABRIL | J3: MAIO | K3: JUNHO | L3: JULHO | M3: AGOSTO | N3: SETEMBRO | O3: OUTUBRO | P3: NOVEMBRO | Q3: DEZEMBRO | R3: JANEIRO | S3: FEVEREIRO | T3: MARÇO | U3: ABRIL
A4: 1.1 | B4: FINALIZAÇÃO DA CASA DE BOMBAS, RECALQUE DE ÁGUA PARA OS INJETORES DE CLORO E TUBULAÇÕES DE ÁGUA | C4: 45323 | D4: 45378 | E4: 898723.56 | G4: 0.5 | H4: 0.5
A5: 1.2 | B5: PROJETO DE ILUMINAÇÃO DAS NOVAS UNIDADES E DO PÁTIO CENTRAL | C5: 45379 | D5: 45406 | E5: 84803.48 | I5: 0.9 | R5: 0.1
A6: 1.3 | B6: INSTALAÇÕES HIDRÁULICAS DOS SISTEMAS DE DOSAGEM DE PRODUTOS QUÍMICOS E GALERIAS | C6: 45379 | D6: 45499 | E6: 1635404.3 | I6: 0.25 | J6: 0.25 | K6: 0.25 | L6: 0.2 | O6: 0.05
A7: 1.4 | B7: CONSTRUÇÃO DA PASSARELA DE INTERLIGAÇÃO, RAMPAS DE ACESSO E PASSAGEM DAS TUBULAÇÕES | C7: 45379 | D7: 45777 | E7: 2542601.1 | I7: 0.2 | J7: 0.1 | K7: 0.1 | L7: 0.1 | M7: 0.1 | N7: 0.1 | R7: 0.1 | S7: 0.1 | T7: 0.05 | U7: 0.05
A8: 1.5 | B8: COBERTURA METÁLICA DA CALHA PARSHALL PARA PROTEÇÃO EQUIPAMENTOS DE DOSAGEM E MEDIDOR DE VAZÃO COAGULANTE | C8: 45495 | D8: 45548 | E8: 274130.58 | O8: 0.5 | P8: 0.5
A9: 1.6 | B9: ADEQUAÇÕES DO PLANO DE GERENCIAMENTO DE RISCOS (PGR) PARA O SISTEMA DE DIÓXIDO DE CLORO | C9: 45534 | D9: 45574 | E9: 178209.84 | M9: 1
A10: 1.7 | B10: IMPERMEABILIZAÇÃO DA CALHA PARSHALL, CANAL DE SAÍDA DE ÁGUA COAGULADA E CÂMARA DE PRÉ-OXIDAÇÃO | C10: 45351 | D10: 45596 | E10: 6770043.5 | H10: 0.12 | I10: 0.12 | J10: 0.12 | K10: 0.12 | L10: 0.12 | M10: 0.12 | N10: 0.14 | O10: 0.14
A11: 1.8 | B11: INSTALAÇÃO DAS COMPORTAS NO CANAL DE ÁGUA COAGULADA E DAS MALHAS DE AÇO PARA MISTURA RÁPIDA | C11: 45435 | D11: 45462 | E11: 887769.24 | K11: 1
A12: 1.9 | B12: INSTALAÇÕES HIDRÁULICAS DOS PONTOS DE APLICAÇÃO DE PRODUTOS QUÍMICOS (PAC,CAP,CARVÃO,POLÍMERO E CLORO) | C12: 45597 | D12: 45624 | E12: 52580.86 | P12: 1
A13: 1.10 | B13: ADEQUAÇÃO GUARDA-CORPOS CANAL DE ÁGUA BRUTA, CÂMARA PRÉ-OXIDAÇÃO, CALHA PARSHALL E CANAL ÁGUA COAGULADA | C13: 45597 | D13: 45624 | E13: 523444.26 | P13: 1
A14: 2.1 | B14: TÉRMINO E CORREÇÕES DO SISTEMA DE APLICAÇÃO DE HIDRÓXIDO DE SÓDIO (PERTINENTES AO PGR) | C14: 45413 | D14: 45527 | E14: 461578.01 | K14: 0.2 | L14: 0.2 | M14: 0.1 | P14: 0.5
A15: 2.2 | B15: ADEQUAÇÕES PERTINENTES AO PGR PARA OS SISTEMAS DE POLÍMERO, FLÚOR E CLORO | C15: 45534 | D15: 45586 | E15: 622620.91 | N15: 0.6 | O15: 0.4
A16: 2.3 | B16: ADEQUAÇÕES DO SISTEMA DE COAGULANTE PAC (BACIA CONTENÇÃO, BASE TANQUES, TRANSF. ENTRE TANQUES E CASA DE BOMBAS) | C16: 45534 | D16: 45608 | E16: 657003.12 | K16: 0.4 | L16: 0.4 | M16: 0.2
A17: 2.4 | B17: ADEQUAÇÃO DOS GUARDAS-CORPOS DOS FLOCULADORES, DECANTADORES E FILTROS | C17: 45628 | D17: 45709 | E17: 2062622.9 | Q17: 0.4 | R17: 0.4 | S17: 0.2
A18: 3.1 | B18: ADEQUAÇÕES PARA ACESSIBILIDADE | C18: 45628 | D18: 45670 | E18: 341854.09 | Q18: 0.6 | R18: 0.4
A19: 3.2 | B19: DEMOLIÇÃO DA ANTIGA CALHA PARSHALL, COM RECUPERAÇÃO E REAPROVEITAMENTO DA ÁREA | C19: 45628 | D19: 45680 | E19: 322709.95 | R19: 0.5 | S19: 0.5
A20: 3.3 | B20: PAVIMENTAÇÃO EM CONCRETO ESTRUTURAL DO ESTACIONAMENTO E DE TRECHOS DO PÁTIO CENTRAL | C20: 45628 | D20: 45693 | E20: 1138921.3 | I20: 0.25 | O20: 0.5 | P20: 0.25
A21: TOTAL GERAL | E21: =SUM(E4:E20) -> 19455021
C22: VALOR PLANEJADO | F22: {=SUM(F4:F20*IF($E$4:$E$20="",0,$E$4:$E$20))} -> 0 | G22: {=SUM(G4:G20*IF($E$4:$E$20="",0,$E$4:$E$20))} -> 449361.78 | H22: {=SUM(H4:H20*IF($E$4:$E$20="",0,$E$4:$E$20))} -> 1261767 | I22: {=SUM(I4:I20*IF($E$4:$E$20="",0,$E$4:$E$20))} -> 2090830 | J22: {=SUM(J4:J20*IF($E$4:$E$20="",0,$E$4:$E$20))} -> 1475516.4 | K22: {=SUM(K4:K20*IF($E$4:$E$20="",0,$E$4:$E$20))} -> 2718402.5 | L22: {=SUM(L4:L20*IF($E$4:$E$20="",0,$E$4:$E$20))} -> 1748863.1 | M22: {=SUM(M4:M20*IF($E$4:$E$20="",0,$E$4:$E$20))} -> 1422433.6 | ... U22: {=SUM(U4:U20*IF($E$4:$E$20="",0,$E$4:$E$20))} -> 127130.06
C23: (%) PLANEJADA | F23: =F22/$E$21 -> 0 | G23: =G22/$E$21 -> 0.023097471 | H23: =H22/$E$21 -> 0.064855597 | I23: =I22/$E$21 -> 0.10746994 | J23: =J22/$E$21 -> 0.075842448 | K23: =K22/$E$21 -> 0.13972755 | L23: =L22/$E$21 -> 0.089892632 | M23: =M22/$E$21 -> 0.073113958 | ... U23: =U22/$E$21 -> 0.0065345628
C24: VALOR PLANEJADO ACUMULADO | F24: =F22 -> 0 | G24: =F24+G22 -> 449361.78 | H24: =G24+H22 -> 1711128.8 | I24: =H24+I22 -> 3801958.8 | J24: =I24+J22 -> 5277475.2 | K24: =J24+K22 -> 7995877.7 | L24: =K24+L22 -> 9744740.8 | M24: =L24+M22 -> 11167174 | N24: =M24+N22 -> 12742813 | ... U24: =T24+U22 -> 19455021
C25: (%) PLANEJADA ACUMULADA | F25: =F23 -> 0 | G25: =F25+G23 -> 0.023097471 | H25: =G25+H23 -> 0.087953068 | I25: =H25+I23 -> 0.19542301 | J25: =I25+J23 -> 0.27126546 | K25: =J25+K23 -> 0.41099301 | L25: =K25+L23 -> 0.50088564 | M25: =L25+M23 -> 0.5739996 | N25: =M25+N23 -> 0.6549884 | ... U25: =T25+U23 -> 1

Sheet Cronograma Financeiro
A1: ANEXO C - CRONOGRAMA FÍSICO-FINANCEIRO DA OBRA DE AMPLIAÇÃO DA ETA CAPIM FINO
B2: PRODUTO | C2: INÍCIO | D2: TÉRMINO | E2: VALOR | F2: 2024 | R2: 2025
F3: JANEIRO | G3: FEVEREIRO | H3: MARÇO | I3: ABRIL | J3: MAIO | K3: JUNHO | L3: JULHO | M3: AGOSTO | N3: SETEMBRO | O3: OUTUBRO | P3: NOVEMBRO | Q3: DEZEMBRO | R3: JANEIRO | S3: FEVEREIRO | T3: MARÇO | U3: ABRIL
A4: 1.1 | B4: FINALIZAÇÃO DA CASA DE BOMBAS, RECALQUE DE ÁGUA PARA OS INJETORES DE CLORO E TUBULAÇÕES DE ÁGUA | C4: 45323 | D4: 45378 | E4: 898723.56 | G4: =IF('Cronograma Físico-Financeiro'!G4*'Cronograma Físico-Financeiro'!$E4,'Cronograma Físico-Financeiro'!G4*'Cronograma Físico-Financeiro'!$E4,"") -> 449361.78 | H4: =IF('Cronograma Físico-Financeiro'!H4*'Cronograma Físico-Financeiro'!$E4,'Cronograma Físico-Financeiro'!H4*'Cronograma Físico-Financeiro'!$E4,"") -> 449361.78 | I4: =IF('Cronograma Físico-Financeiro'!I4*'Cronograma Físico-Financeiro'!$E4,'Cronograma Físico-Financeiro'!I4*'Cronograma Físico-Financeiro'!$E4,"") | J4: =IF('Cronograma Físico-Financeiro'!J4*'Cronograma Físico-Financeiro'!$E4,'Cronograma Físico-Financeiro'!J4*'Cronograma Físico-Financeiro'!$E4,"") | K4: =IF('Cronograma Físico-Financeiro'!K4*'Cronograma Físico-Financeiro'!$E4,'Cronograma Físico-Financeiro'!K4*'Cronograma Físico-Financeiro'!$E4,"") | L4: =IF('Cronograma Físico-Financeiro'!L4*'Cronograma Físico-Financeiro'!$E4,'Cronograma Físico-Financeiro'!L4*'Cronograma Físico-Financeiro'!$E4,"") | M4: =IF('Cronograma Físico-Financeiro'!M4*'Cronograma Físico-Financeiro'!$E4,'Cronograma Físico-Financeiro'!M4*'Cronograma Físico-Financeiro'!$E4,"") | N4: =IF('Cronograma Físico-Financeiro'!N4*'Cronograma Físico-Financeiro'!$E4,'Cronograma Físico-Financeiro'!N4*'Cronograma Físico-Financeiro'!$E4,"") | ... U4: =IF('Cronograma Físico-Financeiro'!U4*'Cronograma Físico-Financeiro'!$E4,'Cronograma Físico-Financeiro'!U4*'Cronograma Físico-Financeiro'!$E4,"")
A5: 1.2 | B5: PROJETO DE ILUMINAÇÃO DAS NOVAS UNIDADES E DO PÁTIO CENTRAL | C5: 45379 | D5: 45406 | E5: 84803.48 | G5: =IF('Cronograma Físico-Financeiro'!G5*'Cronograma Físico-Financeiro'!$E5,'Cronograma Físico-Financeiro'!G5*'Cronograma Físico-Financeiro'!$E5,"") | H5: =IF('Cronograma Físico-Financeiro'!H5*'Cronograma Físico-Financeiro'!$E5,'Cronograma Físico-Financeiro'!H5*'Cronograma Físico-Financeiro'!$E5,"") | I5: =IF('Cronograma Físico-Financeiro'!I5*'Cronograma Físico-Financeiro'!$E5,'Cronograma Físico-Financeiro'!I5*'Cronograma Físico-Financeiro'!$E5,"") -> 76323.132 | J5: =IF('Cronograma Físico-Financeiro'!J5*'Cronograma Físico-Financeiro'!$E5,'Cronograma Físico-Financeiro'!J5*'Cronograma Físico-Financeiro'!$E5,"") | K5: =IF('Cronograma Físico-Financeiro'!K5*'Cronograma Físico-Financeiro'!$E5,'Cronograma Físico-Financeiro'!K5*'Cronograma Físico-Financeiro'!$E5,"") | L5: =IF('Cronograma Físico-Financeiro'!L5*'Cronograma Físico-Financeiro'!$E5,'Cronograma Físico-Financeiro'!L5*'Cronograma Físico-Financeiro'!$E5,"") | M5: =IF('Cronograma Físico-Financeiro'!M5*'Cronograma Físico-Financeiro'!$E5,'Cronograma Físico-Financeiro'!M5*'Cronograma Físico-Financeiro'!$E5,"") | N5: =IF('Cronograma Físico-Financeiro'!N5*'Cronograma Físico-Financeiro'!$E5,'Cronograma Físico-Financeiro'!N5*'Cronograma Físico-Financeiro'!$E5,"") | ... U5: =IF('Cronograma Físico-Financeiro'!U5*'Cronograma Físico-Financeiro'!$E5,'Cronograma Físico-Financeiro'!U5*'Cronograma Físico-Financeiro'!$E5,"")
A6: 1.3 | B6: INSTALAÇÕES HIDRÁULICAS DOS SISTEMAS DE DOSAGEM DE PRODUTOS QUÍMICOS E GALERIAS | C6: 45379 | D6: 45499 | E6: 1635404.3 | G6: =IF('Cronograma Físico-Financeiro'!G6*'Cronograma Físico-Financeiro'!$E6,'Cronograma Físico-Financeiro'!G6*'Cronograma Físico-Financeiro'!$E6,"") | H6: =IF('Cronograma Físico-Financeiro'!H6*'Cronograma Físico-Financeiro'!$E6,'Cronograma Físico-Financeiro'!H6*'Cronograma Físico-Financeiro'!$E6,"") | I6: =IF('Cronograma Físico-Financeiro'!I6*'Cronograma Físico-Financeiro'!$E6,'Cronograma Físico-Financeiro'!I6*'Cronograma Físico-Financeiro'!$E6,"") -> 408851.09 | J6: =IF('Cronograma Físico-Financeiro'!J6*'Cronograma Físico-Financeiro'!$E6,'Cronograma Físico-Financeiro'!J6*'Cronograma Físico-Financeiro'!$E6,"") -> 408851.09 | K6: =IF('Cronograma Físico-Financeiro'!K6*'Cronograma Físico-Financeiro'!$E6,'Cronograma Físico-Financeiro'!K6*'Cronograma Físico-Financeiro'!$E6,"") -> 408851.09 | L6: =IF('Cronograma Físico-Financeiro'!L6*'Cronograma Físico-Financeiro'!$E6,'Cronograma Físico-Financeiro'!L6*'Cronograma Físico-Financeiro'!$E6,"") -> 327080.87 | M6: =IF('Cronograma Físico-Financeiro'!M6*'Cronograma Físico-Financeiro'!$E6,'Cronograma Físico-Financeiro'!M6*'Cronograma Físico-Financeiro'!$E6,"") | N6: =IF('Cronograma Físico-Financeiro'!N6*'Cronograma Físico-Financeiro'!$E6,'Cronograma Físico-Financeiro'!N6*'Cronograma Físico-Financeiro'!$E6,"") | ... U6: =IF('Cronograma Físico-Financeiro'!U6*'Cronograma Físico-Financeiro'!$E6,'Cronograma Físico-Financeiro'!U6*'Cronograma Físico-Financeiro'!$E6,"")
A7: 1.4 | B7: CONSTRUÇÃO DA PASSARELA DE INTERLIGAÇÃO, RAMPAS DE ACESSO E PASSAGEM DAS TUBULAÇÕES | C7: 45379 | D7: 45777 | E7: 2542601.1 | G7: =IF('Cronograma Físico-Financeiro'!G7*'Cronograma Físico-Financeiro'!$E7,'Cronograma Físico-Financeiro'!G7*'Cronograma Físico-Financeiro'!$E7,"") | H7: =IF('Cronograma Físico-Financeiro'!H7*'Cronograma Físico-Financeiro'!$E7,'Cronograma Físico-Financeiro'!H7*'Cronograma Físico-Financeiro'!$E7,"") | I7: =IF('Cronograma Físico-Financeiro'!I7*'Cronograma Físico-Financeiro'!$E7,'Cronograma Físico-Financeiro'!I7*'Cronograma Físico-Financeiro'!$E7,"") -> 508520.23 | J7: =IF('Cronograma Físico-Financeiro'!J7*'Cronograma Físico-Financeiro'!$E7,'Cronograma Físico-Financeiro'!J7*'Cronograma Físico-Financeiro'!$E7,"") -> 254260.11 | K7: =IF('Cronograma Físico-Financeiro'!K7*'Cronograma Físico-Financeiro'!$E7,'Cronograma Físico-Financeiro'!K7*'Cronograma Físico-Financeiro'!$E7,"") -> 254260.11 | L7: =IF('Cronograma Físico-Financeiro'!L7*'Cronograma Físico-Financeiro'!$E7,'Cronograma Físico-Financeiro'!L7*'Cronograma Físico-Financeiro'!$E7,"") -> 254260.11 | M7: =IF('Cronograma Físico-Financeiro'!M7*'Cronograma Físico-Financeiro'!$E7,'Cronograma Físico-Financeiro'!M7*'Cronograma Físico-Financeiro'!$E7,"") -> 254260.11 | N7: =IF('Cronograma Físico-Financeiro'!N7*'Cronograma Físico-Financeiro'!$E7,'Cronograma Físico-Financeiro'!N7*'Cronograma Físico-Financeiro'!$E7,"") -> 254260.11 | ... U7: =IF('Cronograma Físico-Financeiro'!U7*'Cronograma Físico-Financeiro'!$E7,'Cronograma Físico-Financeiro'!U7*'Cronograma Físico-Financeiro'!$E7,"") -> 127130.06
A8: 1.5 | B8: COBERTURA METÁLICA DA CALHA PARSHALL PARA PROTEÇÃO EQUIPAMENTOS DE DOSAGEM E MEDIDOR DE VAZÃO COAGULANTE | C8: 45495 | D8: 45548 | E8: 274130.58 | G8: =IF('Cronograma Físico-Financeiro'!G8*'Cronograma Físico-Financeiro'!$E8,'Cronograma Físico-Financeiro'!G8*'Cronograma Físico-Financeiro'!$E8,"") | H8: =IF('Cronograma Físico-Financeiro'!H8*'Cronograma Físico-Financeiro'!$E8,'Cronograma Físico-Financeiro'!H8*'Cronograma Físico-Financeiro'!$E8,"") | I8: =IF('Cronograma Físico-Financeiro'!I8*'Cronograma Físico-Financeiro'!$E8,'Cronograma Físico-Financeiro'!I8*'Cronograma Físico-Financeiro'!$E8,"") | J8: =IF('Cronograma Físico-Financeiro'!J8*'Cronograma Físico-Financeiro'!$E8,'Cronograma Físico-Financeiro'!J8*'Cronograma Físico-Financeiro'!$E8,"") | K8: =IF('Cronograma Físico-Financeiro'!K8*'Cronograma Físico-Financeiro'!$E8,'Cronograma Físico-Financeiro'!K8*'Cronograma Físico-Financeiro'!$E8,"") | L8: =IF('Cronograma Físico-Financeiro'!L8*'Cronograma Físico-Financeiro'!$E8,'Cronograma Físico-Financeiro'!L8*'Cronograma Físico-Financeiro'!$E8,"") | M8: =IF('Cronograma Físico-Financeiro'!M8*'Cronograma Físico-Financeiro'!$E8,'Cronograma Físico-Financeiro'!M8*'Cronograma Físico-Financeiro'!$E8,"") | N8: =IF('Cronograma Físico-Financeiro'!N8*'Cronograma Físico-Financeiro'!$E8,'Cronograma Físico-Financeiro'!N8*'Cronograma Físico-Financeiro'!$E8,"") | ... U8: =IF('Cronograma Físico-Financeiro'!U8*'Cronograma Físico-Financeiro'!$E8,'Cronograma Físico-Financeiro'!U8*'Cronograma Físico-Financeiro'!$E8,"")
A9: 1.6 | B9: ADEQUAÇÕES DO PLANO DE GERENCIAMENTO DE RISCOS (PGR) PARA O SISTEMA DE DIÓXIDO DE CLORO | C9: 45534 | D9: 45574 | E9: 178209.84 | G9: =IF('Cronograma Físico-Financeiro'!G9*'Cronograma Físico-Financeiro'!$E9,'Cronograma Físico-Financeiro'!G9*'Cronograma Físico-Financeiro'!$E9,"") | H9: =IF('Cronograma Físico-Financeiro'!H9*'Cronograma Físico-Financeiro'!$E9,'Cronograma Físico-Financeiro'!H9*'Cronograma Físico-Financeiro'!$E9,"") | I9: =IF('Cronograma Físico-Financeiro'!I9*'Cronograma Físico-Financeiro'!$E9,'Cronograma Físico-Financeiro'!I9*'Cronograma Físico-Financeiro'!$E9,"") | J9: =IF('Cronograma Físico-Financeiro'!J9*'Cronograma Físico-Financeiro'!$E9,'Cronograma Físico-Financeiro'!J9*'Cronograma Físico-Financeiro'!$E9,"") | K9: =IF('Cronograma Físico-Financeiro'!K9*'Cronograma Físico-Financeiro'!$E9,'Cronograma Físico-Financeiro'!K9*'Cronograma Físico-Financeiro'!$E9,"") | L9: =IF('Cronograma Físico-Financeiro'!L9*'Cronograma Físico-Financeiro'!$E9,'Cronograma Físico-Financeiro'!L9*'Cronograma Físico-Financeiro'!$E9,"") | M9: =IF('Cronograma Físico-Financeiro'!M9*'Cronograma Físico-Financeiro'!$E9,'Cronograma Físico-Financeiro'!M9*'Cronograma Físico-Financeiro'!$E9,"") -> 178209.84 | N9: =IF('Cronograma Físico-Financeiro'!N9*'Cronograma Físico-Financeiro'!$E9,'Cronograma Físico-Financeiro'!N9*'Cronograma Físico-Financeiro'!$E9,"") | ... U9: =IF('Cronograma Físico-Financeiro'!U9*'Cronograma Físico-Financeiro'!$E9,'Cronograma Físico-Financeiro'!U9*'Cronograma Físico-Financeiro'!$E9,"")
A10: 1.7 | B10: IMPERMEABILIZAÇÃO DA CALHA PARSHALL, CANAL DE SAÍDA DE ÁGUA COAGULADA E CÂMARA DE PRÉ-OXIDAÇÃO | C10: 45351 | D10: 45596 | E10: 6770043.5 | G10: =IF('Cronograma Físico-Financeiro'!G10*'Cronograma Físico-Financeiro'!$E10,'Cronograma Físico-Financeiro'!G10*'Cronograma Físico-Financeiro'!$E10,"") | H10: =IF('Cronograma Físico-Financeiro'!H10*'Cronograma Físico-Financeiro'!$E10,'Cronograma Físico-Financeiro'!H10*'Cronograma Físico-Financeiro'!$E10,"") -> 812405.23 | I10: =IF('Cronograma Físico-Financeiro'!I10*'Cronograma Físico-Financeiro'!$E10,'Cronograma Físico-Financeiro'!I10*'Cronograma Físico-Financeiro'!$E10,"") -> 812405.23 | J10: =IF('Cronograma Físico-Financeiro'!J10*'Cronograma Físico-Financeiro'!$E10,'Cronograma Físico-Financeiro'!J10*'Cronograma Físico-Financeiro'!$E10,"") -> 812405.23 | K10: =IF('Cronograma Físico-Financeiro'!K10*'Cronograma Físico-Financeiro'!$E10,'Cronograma Físico-Financeiro'!K10*'Cronograma Físico-Financeiro'!$E10,"") -> 812405.23 | L10: =IF('Cronograma Físico-Financeiro'!L10*'Cronograma Físico-Financeiro'!$E10,'Cronograma Físico-Financeiro'!L10*'Cronograma Físico-Financeiro'!$E10,"") -> 812405.23 | M10: =IF('Cronograma Físico-Financeiro'!M10*'Cronograma Físico-Financeiro'!$E10,'Cronograma Físico-Financeiro'!M10*'Cronograma Físico-Financeiro'!$E10,"") -> 812405.23 | N10: =IF('Cronograma Físico-Financeiro'!N10*'Cronograma Físico-Financeiro'!$E10,'Cronograma Físico-Financeiro'!N10*'Cronograma Físico-Financeiro'!$E10,"") -> 947806.1 | ... U10: =IF('Cronograma Físico-Financeiro'!U10*'Cronograma Físico-Financeiro'!$E10,'Cronograma Físico-Financeiro'!U10*'Cronograma Físico-Financeiro'!$E10,"")
A11: 1.8 | B11: INSTALAÇÃO DAS COMPORTAS NO CANAL DE ÁGUA COAGULADA E DAS MALHAS DE AÇO PARA MISTURA RÁPIDA | C11: 45435 | D11: 45462 | E11: 887769.24 | G11: =IF('Cronograma Físico-Financeiro'!G11*'Cronograma Físico-Financeiro'!$E11,'Cronograma Físico-Financeiro'!G11*'Cronograma Físico-Financeiro'!$E11,"") | H11: =IF('Cronograma Físico-Financeiro'!H11*'Cronograma Físico-Financeiro'!$E11,'Cronograma Físico-Financeiro'!H11*'Cronograma Físico-Financeiro'!$E11,"") | I11: =IF('Cronograma Físico-Financeiro'!I11*'Cronograma Físico-Financeiro'!$E11,'Cronograma Físico-Financeiro'!I11*'Cronograma Físico-Financeiro'!$E11,"") | J11: =IF('Cronograma Físico-Financeiro'!J11*'Cronograma Físico-Financeiro'!$E11,'Cronograma Físico-Financeiro'!J11*'Cronograma Físico-Financeiro'!$E11,"") | K11: =IF('Cronograma Físico-Financeiro'!K11*'Cronograma Físico-Financeiro'!$E11,'Cronograma Físico-Financeiro'!K11*'Cronograma Físico-Financeiro'!$E11,"") -> 887769.24 | L11: =IF('Cronograma Físico-Financeiro'!L11*'Cronograma Físico-Financeiro'!$E11,'Cronograma Físico-Financeiro'!L11*'Cronograma Físico-Financeiro'!$E11,"") | M11: =IF('Cronograma Físico-Financeiro'!M11*'Cronograma Físico-Financeiro'!$E11,'Cronograma Físico-Financeiro'!M11*'Cronograma Físico-Financeiro'!$E11,"") | N11: =IF('Cronograma Físico-Financeiro'!N11*'Cronograma Físico-Financeiro'!$E11,'Cronograma Físico-Financeiro'!N11*'Cronograma Físico-Financeiro'!$E11,"") | ... U11: =IF('Cronograma Físico-Financeiro'!U11*'Cronograma Físico-Financeiro'!$E11,'Cronograma Físico-Financeiro'!U11*'Cronograma Físico-Financeiro'!$E11,"")
A12: 1.9 | B12: INSTALAÇÕES HIDRÁULICAS DOS PONTOS DE APLICAÇÃO DE PRODUTOS QUÍMICOS (PAC,CAP,CARVÃO,POLÍMERO E CLORO) | C12: 45597 | D12: 45624 | E12: 52580.86 | G12: =IF('Cronograma Físico-Financeiro'!G12*'Cronograma Físico-Financeiro'!$E12,'Cronograma Físico-Financeiro'!G12*'Cronograma Físico-Financeiro'!$E12,"") | H12: =IF('Cronograma Físico-Financeiro'!H12*'Cronograma Físico-Financeiro'!$E12,'Cronograma Físico-Financeiro'!H12*'Cronograma Físico-Financeiro'!$E12,"") | I12: =IF('Cronograma Físico-Financeiro'!I12*'Cronograma Físico-Financeiro'!$E12,'Cronograma Físico-Financeiro'!I12*'Cronograma Físico-Financeiro'!$E12,"") | J12: =IF('Cronograma Físico-Financeiro'!J12*'Cronograma Físico-Financeiro'!$E12,'Cronograma Físico-Financeiro'!J12*'Cronograma Físico-Financeiro'!$E12,"") | K12: =IF('Cronograma Físico-Financeiro'!K12*'Cronograma Físico-Financeiro'!$E12,'Cronograma Físico-Financeiro'!K12*'Cronograma Físico-Financeiro'!$E12,"") | L12: =IF('Cronograma Físico-Financeiro'!L12*'Cronograma Físico-Financeiro'!$E12,'Cronograma Físico-Financeiro'!L12*'Cronograma Físico-Financeiro'!$E12,"") | M12: =IF('Cronograma Físico-Financeiro'!M12*'Cronograma Físico-Financeiro'!$E12,'Cronograma Físico-Financeiro'!M12*'Cronograma Físico-Financeiro'!$E12,"") | N12: =IF('Cronograma Físico-Financeiro'!N12*'Cronograma Físico-Financeiro'!$E12,'Cronograma Físico-Financeiro'!N12*'Cronograma Físico-Financeiro'!$E12,"") | ... U12: =IF('Cronograma Físico-Financeiro'!U12*'Cronograma Físico-Financeiro'!$E12,'Cronograma Físico-Financeiro'!U12*'Cronograma Físico-Financeiro'!$E12,"")
A13: 1.10 | B13: ADEQUAÇÃO GUARDA-CORPOS CANAL DE ÁGUA BRUTA, CÂMARA PRÉ-OXIDAÇÃO, CALHA PARSHALL E CANAL ÁGUA COAGULADA | C13: 45597 | D13: 45624 | E13: 523444.26 | G13: =IF('Cronograma Físico-Financeiro'!G13*'Cronograma Físico-Financeiro'!$E13,'Cronograma Físico-Financeiro'!G13*'Cronograma Físico-Financeiro'!$E13,"") | H13: =IF('Cronograma Físico-Financeiro'!H13*'Cronograma Físico-Financeiro'!$E13,'Cronograma Físico-Financeiro'!H13*'Cronograma Físico-Financeiro'!$E13,"") | I13: =IF('Cronograma Físico-Financeiro'!I13*'Cronograma Físico-Financeiro'!$E13,'Cronograma Físico-Financeiro'!I13*'Cronograma Físico-Financeiro'!$E13,"") | J13: =IF('Cronograma Físico-Financeiro'!J13*'Cronograma Físico-Financeiro'!$E13,'Cronograma Físico-Financeiro'!J13*'Cronograma Físico-Financeiro'!$E13,"") | K13: =IF('Cronograma Físico-Financeiro'!K13*'Cronograma Físico-Financeiro'!$E13,'Cronograma Físico-Financeiro'!K13*'Cronograma Físico-Financeiro'!$E13,"") | L13: =IF('Cronograma Físico-Financeiro'!L13*'Cronograma Físico-Financeiro'!$E13,'Cronograma Físico-Financeiro'!L13*'Cronograma Físico-Financeiro'!$E13,"") | M13: =IF('Cronograma Físico-Financeiro'!M13*'Cronograma Físico-Financeiro'!$E13,'Cronograma Físico-Financeiro'!M13*'Cronograma Físico-Financeiro'!$E13,"") | N13: =IF('Cronograma Físico-Financeiro'!N13*'Cronograma Físico-Financeiro'!$E13,'Cronograma Físico-Financeiro'!N13*'Cronograma Físico-Financeiro'!$E13,"") | ... U13: =IF('Cronograma Físico-Financeiro'!U13*'Cronograma Físico-Financeiro'!$E13,'Cronograma Físico-Financeiro'!U13*'Cronograma Físico-Financeiro'!$E13,"")
A14: 2.1 | B14: TÉRMINO E CORREÇÕES DO SISTEMA DE APLICAÇÃO DE HIDRÓXIDO DE SÓDIO (PERTINENTES AO PGR) | C14: 45413 | D14: 45527 | E14: 461578.01 | G14: =IF('Cronograma Físico-Financeiro'!G14*'Cronograma Físico-Financeiro'!$E14,'Cronograma Físico-Financeiro'!G14*'Cronograma Físico-Financeiro'!$E14,"") | H14: =IF('Cronograma Físico-Financeiro'!H14*'Cronograma Físico-Financeiro'!$E14,'Cronograma Físico-Financeiro'!H14*'Cronograma Físico-Financeiro'!$E14,"") | I14: =IF('Cronograma Físico-Financeiro'!I14*'Cronograma Físico-Financeiro'!$E14,'Cronograma Físico-Financeiro'!I14*'Cronograma Físico-Financeiro'!$E14,"") | J14: =IF('Cronograma Físico-Financeiro'!J14*'Cronograma Físico-Financeiro'!$E14,'Cronograma Físico-Financeiro'!J14*'Cronograma Físico-Financeiro'!$E14,"") | K14: =IF('Cronograma Físico-Financeiro'!K14*'Cronograma Físico-Financeiro'!$E14,'Cronograma Físico-Financeiro'!K14*'Cronograma Físico-Financeiro'!$E14,"") -> 92315.602 | L14: =IF('Cronograma Físico-Financeiro'!L14*'Cronograma Físico-Financeiro'!$E14,'Cronograma Físico-Financeiro'!L14*'Cronograma Físico-Financeiro'!$E14,"") -> 92315.602 | M14: =IF('Cronograma Físico-Financeiro'!M14*'Cronograma Físico-Financeiro'!$E14,'Cronograma Físico-Financeiro'!M14*'Cronograma Físico-Financeiro'!$E14,"") -> 46157.801 | N14: =IF('Cronograma Físico-Financeiro'!N14*'Cronograma Físico-Financeiro'!$E14,'Cronograma Físico-Financeiro'!N14*'Cronograma Físico-Financeiro'!$E14,"") | ... U14: =IF('Cronograma Físico-Financeiro'!U14*'Cronograma Físico-Financeiro'!$E14,'Cronograma Físico-Financeiro'!U14*'Cronograma Físico-Financeiro'!$E14,"")
A15: 2.2 | B15: ADEQUAÇÕES PERTINENTES AO PGR PARA OS SISTEMAS DE POLÍMERO, FLÚOR E CLORO | C15: 45534 | D15: 45586 | E15: 622620.91 | G15: =IF('Cronograma Físico-Financeiro'!G15*'Cronograma Físico-Financeiro'!$E15,'Cronograma Físico-Financeiro'!G15*'Cronograma Físico-Financeiro'!$E15,"") | H15: =IF('Cronograma Físico-Financeiro'!H15*'Cronograma Físico-Financeiro'!$E15,'Cronograma Físico-Financeiro'!H15*'Cronograma Físico-Financeiro'!$E15,"") | I15: =IF('Cronograma Físico-Financeiro'!I15*'Cronograma Físico-Financeiro'!$E15,'Cronograma Físico-Financeiro'!I15*'Cronograma Físico-Financeiro'!$E15,"") | J15: =IF('Cronograma Físico-Financeiro'!J15*'Cronograma Físico-Financeiro'!$E15,'Cronograma Físico-Financeiro'!J15*'Cronograma Físico-Financeiro'!$E15,"") | K15: =IF('Cronograma Físico-Financeiro'!K15*'Cronograma Físico-Financeiro'!$E15,'Cronograma Físico-Financeiro'!K15*'Cronograma Físico-Financeiro'!$E15,"") | L15: =IF('Cronograma Físico-Financeiro'!L15*'Cronograma Físico-Financeiro'!$E15,'Cronograma Físico-Financeiro'!L15*'Cronograma Físico-Financeiro'!$E15,"") | M15: =IF('Cronograma Físico-Financeiro'!M15*'Cronograma Físico-Financeiro'!$E15,'Cronograma Físico-Financeiro'!M15*'Cronograma Físico-Financeiro'!$E15,"") | N15: =IF('Cronograma Físico-Financeiro'!N15*'Cronograma Físico-Financeiro'!$E15,'Cronograma Físico-Financeiro'!N15*'Cronograma Físico-Financeiro'!$E15,"") -> 373572.55 | ... U15: =IF('Cronograma Físico-Financeiro'!U15*'Cronograma Físico-Financeiro'!$E15,'Cronograma Físico-Financeiro'!U15*'Cronograma Físico-Financeiro'!$E15,"")
... A20: 3.3 | B20: PAVIMENTAÇÃO EM CONCRETO ESTRUTURAL DO ESTACIONAMENTO E DE TRECHOS DO PÁTIO CENTRAL | C20: 45628 | D20: 45693 | E20: 1138921.3 | G20: =IF('Cronograma Físico-Financeiro'!G20*'Cronograma Físico-Financeiro'!$E20,'Cronograma Físico-Financeiro'!G20*'Cronograma Físico-Financeiro'!$E20,"") | H20: =IF('Cronograma Físico-Financeiro'!H20*'Cronograma Físico-Financeiro'!$E20,'Cronograma Físico-Financeiro'!H20*'Cronograma Físico-Financeiro'!$E20,"") | I20: =IF('Cronograma Físico-Financeiro'!I20*'Cronograma Físico-Financeiro'!$E20,'Cronograma Físico-Financeiro'!I20*'Cronograma Físico-Financeiro'!$E20,"") -> 284730.32 | J20: =IF('Cronograma Físico-Financeiro'!J20*'Cronograma Físico-Financeiro'!$E20,'Cronograma Físico-Financeiro'!J20*'Cronograma Físico-Financeiro'!$E20,"") | K20: =IF('Cronograma Físico-Financeiro'!K20*'Cronograma Físico-Financeiro'!$E20,'Cronograma Físico-Financeiro'!K20*'Cronograma Físico-Financeiro'!$E20,"") | L20: =IF('Cronograma Físico-Financeiro'!L20*'Cronograma Físico-Financeiro'!$E20,'Cronograma Físico-Financeiro'!L20*'Cronograma Físico-Financeiro'!$E20,"") | M20: =IF('Cronograma Físico-Financeiro'!M20*'Cronograma Físico-Financeiro'!$E20,'Cronograma Físico-Financeiro'!M20*'Cronograma Físico-Financeiro'!$E20,"") | N20: =IF('Cronograma Físico-Financeiro'!N20*'Cronograma Físico-Financeiro'!$E20,'Cronograma Físico-Financeiro'!N20*'Cronograma Físico-Financeiro'!$E20,"") | ... U20: =IF('Cronograma Físico-Financeiro'!U20*'Cronograma Físico-Financeiro'!$E20,'Cronograma Físico-Financeiro'!U20*'Cronograma Físico-Financeiro'!$E20,"")
A21: TOTAL GERAL | E21: =SUM(E4:E20) -> 19455021
C22: VALOR PLANEJADO | F22: {=SUM(F4:F20*IF($E$4:$E$20="",0,$E$4:$E$20))} -> 0 | G22: =SUM(G4:G21) -> 449361.78 | H22: =SUM(H4:H21) -> 1261767 | I22: =SUM(I4:I21) -> 2090830 | J22: =SUM(J4:J21) -> 1475516.4 | K22: =SUM(K4:K21) -> 2718402.5 | L22: =SUM(L4:L21) -> 1748863.1 | M22: =SUM(M4:M21) -> 1422433.6 | N22: =SUM(N4:N21) -> 1575638.8 | ... U22: =SUM(U4:U21) -> 127130.06
C23: (%) PLANEJADA | F23: =F22/$E$21 -> 0 | G23: =G22/$E$21 -> 0.023097471 | H23: =H22/$E$21 -> 0.064855597 | I23: =I22/$E$21 -> 0.10746994 | J23: =J22/$E$21 -> 0.075842448 | K23: =K22/$E$21 -> 0.13972755 | L23: =L22/$E$21 -> 0.089892632 | M23: =M22/$E$21 -> 0.073113958 | ... U23: =U22/$E$21 -> 0.0065345628
C24: VALOR PLANEJADO ACUMULADO | F24: =F22 -> 0 | G24: =F24+G22 -> 449361.78 | H24: =G24+H22 -> 1711128.8 | I24: =H24+I22 -> 3801958.8 | J24: =I24+J22 -> 5277475.2 | K24: =J24+K22 -> 7995877.7 | L24: =K24+L22 -> 9744740.8 | M24: =L24+M22 -> 11167174 | N24: =M24+N22 -> 12742813 | ... U24: =T24+U22 -> 19455021
C25: (%) PLANEJADA ACUMULADA | F25: =F23 -> 0 | G25: =F25+G23 -> 0.023097471 | H25: =G25+H23 -> 0.087953068 | I25: =H25+I23 -> 0.19542301 | J25: =I25+J23 -> 0.27126546 | K25: =J25+K23 -> 0.41099301 | L25: =K25+L23 -> 0.50088564 | M25: =L25+M23 -> 0.5739996 | N25: =M25+N23 -> 0.6549884 | ... U25: =T25+U23 -> 1
